BEGIN:VCALENDAR
VERSION:2.0
METHOD:PUBLISH
PRODID:-//enovanet//eMagnum//FR
BEGIN:VEVENT
DTSTAMP:20260524T000000
DTSTART:20260524T000000
DTEND:20260524T000000
LOCATION: -  -  
SUMMARY:CASTEL AUTOMOBILE CLUB
DESCRIPTION:Rencontre avec CASTEL AUTOMOBILE CLUB \n 
 "Rassemblement au Grand Jard Châlons en Champagne" \n\n 
 Plus d'information sur : https://www.castelautoclub.com
UID:evenement346
END:VEVENT
END:VCALENDAR
